BEGIN:VCALENDAR
VERSION:2.0
PRODID:-//TheOnsiteManager - ECPv5.9.0//NONSGML v1.0//EN
CALSCALE:GREGORIAN
METHOD:PUBLISH
X-WR-CALNAME:TheOnsiteManager
X-ORIGINAL-URL:https://theonsitemanager.com.au/news
X-WR-CALDESC:Events for TheOnsiteManager
BEGIN:VTIMEZONE
TZID:Australia/Melbourne
BEGIN:STANDARD
TZOFFSETFROM:+1100
TZOFFSETTO:+1000
TZNAME:AEST
DTSTART:20220402T160000
END:STANDARD
BEGIN:DAYLIGHT
TZOFFSETFROM:+1000
TZOFFSETTO:+1100
TZNAME:AEDT
DTSTART:20221001T160000
END:DAYLIGHT
END:VTIMEZONE
BEGIN:VEVENT
DTSTART;TZID=Australia/Melbourne:20220520T180000
DTEND;TZID=Australia/Melbourne:20220520T233000
DTSTAMP:20260420T104324
CREATED:20220504T215734Z
LAST-MODIFIED:20220504T215734Z
UID:2581-1653069600-1653089400@theonsitemanager.com.au
SUMMARY:ARAMA 30th Anniversary Celebration Dinner
DESCRIPTION:ARAMA’s 30th Anniversary Celebration Dinner is an opportunity for the Management Rights Industry to celebrate ARAMA’s 30 years of service. \n\nThe Island\, 3128 Surfers Paradise Blvd\, Surfers Paradise – Glasshouse function room\nFriday 20th May 2022\nRegistrations open at 5.30pm\nDrinks and canapes from 6pm\nDinner from 7pm\nEvent ends at 11pm\n\nTickets can be purchased individually or in a block of 8 (entire table). Your ticket includes delicious canapes\, a 4 hour premium drinks package\, scrumtous main course\, dessert plus tea/coffee.\nTicket prices are: \n$145 (inclusive of GST) each for members (up to 2 pax at this price i.e. ARAMA member + partner) Make sure you are logged in as a member and your partner is registered on the ARAMA database otherwise the members discount will not be applied. \n$195 (inclusive of GST) for non-members or \nA table of 8 for $1\,160 (inclusive of GST)\nWhy not make a night of it and stay overnight at one of our fabulous ARAMA member properties close by.  Click here for the ARAMA Accommodation Directory (A.A.D). \nJoin us for a night of celebrations and meet with your fellow members\, industry legends and invited VIPs. Take a step back in time to review the history of the Management Rights industry and share your stories. \nThis event will be conducted in accordance with ARAMA`s COVIDSAFE Plan which is In line with the relevant Health Directives applying at the time. It is essential that you pre-register before attending. \n*IMPORTANT\nTerms & Conditions: \n1. By registering for this event I give my consent for my image and contact details to be recorded and used for promotional purposes by ARAMA and/or its sponsors/advertisers. \n  \nFor more information please contact ARAMA on 1300 ARAMA Q or national@arama.com.au \n\n								\n									\n									Tweet\n								\n							\n								\n									\n									Share\n									0\n								\n							\n								\n									\n									Reddit\n								\n							\n								\n									\n									+1\n								\n							\n								\n									\n									Pocket\n								\n							\n								\n									\n									LinkedIn\n									0
URL:https://theonsitemanager.com.au/news/event/arama-30th-anniversary-celebration-dinner/
LOCATION:The Island\, 3128 Surfers Paradise Blvd\, Surfers Paradise\, QLD\, Australia
CATEGORIES:ARAMA
ATTACH;FMTTYPE=image/jpeg:https://cdn.theonsitemanager.com.au/news/wp-content/uploads/2022/01/arama-drinks.jpg
END:VEVENT
END:VCALENDAR