BEGIN:VCALENDAR
VERSION:2.0
PRODID:-//TheOnsiteManager - ECPv5.9.0//NONSGML v1.0//EN
CALSCALE:GREGORIAN
METHOD:PUBLISH
X-WR-CALNAME:TheOnsiteManager
X-ORIGINAL-URL:https://theonsitemanager.com.au/news
X-WR-CALDESC:Events for TheOnsiteManager
BEGIN:VTIMEZONE
TZID:Australia/Melbourne
BEGIN:STANDARD
TZOFFSETFROM:+1100
TZOFFSETTO:+1000
TZNAME:AEST
DTSTART:20220402T160000
END:STANDARD
BEGIN:DAYLIGHT
TZOFFSETFROM:+1000
TZOFFSETTO:+1100
TZNAME:AEDT
DTSTART:20221001T160000
END:DAYLIGHT
END:VTIMEZONE
BEGIN:VEVENT
DTSTART;TZID=Australia/Melbourne:20221007T110000
DTEND;TZID=Australia/Melbourne:20221007T120000
DTSTAMP:20260422T161628
CREATED:20220927T033212Z
LAST-MODIFIED:20220927T033212Z
UID:2937-1665140400-1665144000@theonsitemanager.com.au
SUMMARY:ARAMA Information and Education Webinar - RTA Changes
DESCRIPTION:Exclusive for ARAMA Members \nThis webinar address the new tenancy law changes coming into effect 1st October. It’s an opportunity to ask industry professionals your questions with fellow ARAMA members amidst all the current changes. \nIf you would like to submit your questions beforehand please send an email to national@arama.com.au \n\n								\n									\n									Tweet\n								\n							\n								\n									\n									Share\n									0\n								\n							\n								\n									\n									Reddit\n								\n							\n								\n									\n									+1\n								\n							\n								\n									\n									Pocket\n								\n							\n								\n									\n									LinkedIn\n									0
URL:https://theonsitemanager.com.au/news/event/arama-information-and-education-webinar-rta-changes/
LOCATION:Online
CATEGORIES:ARAMA,Webinar
ATTACH;FMTTYPE=image/jpeg:https://cdn.theonsitemanager.com.au/news/wp-content/uploads/2022/09/arama-RTA.jpg
END:VEVENT
END:VCALENDAR