BEGIN:VCALENDAR
VERSION:2.0
PRODID:-//TheOnsiteManager - ECPv5.9.0//NONSGML v1.0//EN
CALSCALE:GREGORIAN
METHOD:PUBLISH
X-WR-CALNAME:TheOnsiteManager
X-ORIGINAL-URL:https://theonsitemanager.com.au/news
X-WR-CALDESC:Events for TheOnsiteManager
BEGIN:VTIMEZONE
TZID:Australia/Melbourne
BEGIN:STANDARD
TZOFFSETFROM:+1100
TZOFFSETTO:+1000
TZNAME:AEST
DTSTART:20230401T160000
END:STANDARD
BEGIN:DAYLIGHT
TZOFFSETFROM:+1000
TZOFFSETTO:+1100
TZNAME:AEDT
DTSTART:20230930T160000
END:DAYLIGHT
END:VTIMEZONE
BEGIN:VEVENT
DTSTART;TZID=Australia/Melbourne:20230728T120000
DTEND;TZID=Australia/Melbourne:20230728T150000
DTSTAMP:20260421T170056
CREATED:20230718T013707Z
LAST-MODIFIED:20230718T013707Z
UID:3830-1690545600-1690556400@theonsitemanager.com.au
SUMMARY:REIQ Property Insider Luncheon
DESCRIPTION:Get a step ahead of your competition and gain exclusive insights into the factors affecting the Queensland real estate industry. With the pace of innovation and technology hitting lightning speeds\, the REIQ’s Property Insider Luncheon will take a deep dive into the future trends and challenges that will affect your career and business. Join us at this signature event with keynote speaker Chris Riddell. \n\n								\n									\n									Tweet\n								\n							\n								\n									\n									Share\n									0\n								\n							\n								\n									\n									Reddit\n								\n							\n								\n									\n									+1\n								\n							\n								\n									\n									Pocket\n								\n							\n								\n									\n									LinkedIn\n									0
URL:https://theonsitemanager.com.au/news/event/reiq-property-insider-luncheon/
LOCATION:Calile Hotel\, 48 James Street\, Brisbane\, QLD\, Australia
CATEGORIES:Professional Development,Social
ATTACH;FMTTYPE=image/jpeg:https://cdn.theonsitemanager.com.au/news/wp-content/uploads/2023/07/reiq-event-july.jpg
END:VEVENT
END:VCALENDAR