BEGIN:VCALENDAR
VERSION:2.0
PRODID:-//TheOnsiteManager - ECPv5.9.0//NONSGML v1.0//EN
CALSCALE:GREGORIAN
METHOD:PUBLISH
X-WR-CALNAME:TheOnsiteManager
X-ORIGINAL-URL:https://theonsitemanager.com.au/news
X-WR-CALDESC:Events for TheOnsiteManager
BEGIN:VTIMEZONE
TZID:Australia/Melbourne
BEGIN:STANDARD
TZOFFSETFROM:+1100
TZOFFSETTO:+1000
TZNAME:AEST
DTSTART:20260404T160000
END:STANDARD
BEGIN:DAYLIGHT
TZOFFSETFROM:+1000
TZOFFSETTO:+1100
TZNAME:AEDT
DTSTART:20261003T160000
END:DAYLIGHT
END:VTIMEZONE
BEGIN:VEVENT
DTSTART;TZID=Australia/Melbourne:20260507T163000
DTEND;TZID=Australia/Melbourne:20260507T193000
DTSTAMP:20260426T134802
CREATED:20260416T063936Z
LAST-MODIFIED:20260416T065237Z
UID:5041-1778171400-1778182200@theonsitemanager.com.au
SUMMARY:AIRLIE BEACH STRATA SEMINAR – MAJOR MAINTENANCE PROJECTS (7 MAY 2026)
DESCRIPTION:Hosted by Archers the Strata Professionals on 07/05/2026 in Whitsundays \, Posted by Smart Strata on 09/03/2026\n\nUnderstanding strata major maintenance projects: the who\, what\, when\, why and how of planning\, funding and delivering major works. \n\n\nStrata Major Maintenance Projects Seminar Airlie Beach\nWhere: Coral Sea Resort\, 25 Ocean View Ave\, Airlie Beach QLD 4802 \nWhen: Thursday 7th May 2026 4:30pm for a 5:00pm Start \nEntry: Free of charge \nCanapés and beverages provided with lots of prizes to be won! \n\nRegister Here\n\n\nMaintenance & Major Projects: the who\, what\, when\, why and how.\nStrata Major Maintenance Projects Seminar Airlie Beach. From early discovery and planning\, through tendering\, funding and delivery\, this seminar unpacks how strata schemes can proactively manage major works. Using a real-world case studies\, our expert panel will explore governance\, budgeting\, contracts and project management — helping strata communities make confident\, informed decisions at every stage. \nWhat you will learn \n\nWho is responsible for identifying\, monitoring and reporting building condition\, and why early discovery is critical to avoiding reactive and costly major works.\nWhat should be considered when planning major projects\, and when to review and update the Sinking Fund Forecast to reflect realistic timing and costs.\nWhen to engage project management support for major works\, what funding options are available\, and how payments\, special levies and contract requirements are managed.\nHow to approach different project types\, tendering and contractor selection\, who should be involved\, and why transparent\, arm’s-length processes matter.\n\nMajor maintenance projects are some of the most complex responsibilities faced in strata communities. Understanding the process is essential to manage risk\, control costs\, make informed decisions and protect the long-term interests of the scheme. \nStrata Seminar 7th May 2026 Register Now!
URL:https://theonsitemanager.com.au/news/event/strata-major-maintenance-projects-seminar-airlie-beach/
LOCATION:Coral Sea Resort\, 25 Ocean View Avenue\, Airlie Beach QLD 4802\, Coral Sea Resort\, 25 Ocean View Avenue\, Airlie Beach\, Queensland\, 4803\, Australia
CATEGORIES:Conference,Professional Development,Seminar
ATTACH;FMTTYPE=image/jpeg:https://cdn.theonsitemanager.com.au/news/wp-content/uploads/2026/04/Untitled-design-46.jpg
ORGANIZER;CN="Smart%20Strata":MAILTO:info@smartstrata.com
END:VEVENT
BEGIN:VEVENT
DTSTART;TZID=Australia/Melbourne:20260508T123000
DTEND;TZID=Australia/Melbourne:20260508T163000
DTSTAMP:20260426T134802
CREATED:20260421T045450Z
LAST-MODIFIED:20260421T045450Z
UID:5072-1778243400-1778257800@theonsitemanager.com.au
SUMMARY:Women In - Sunshine Coast Luncheon 8th of May
DESCRIPTION:Join us at our Sunshine Coast Luncheon! \nFriday 8th May12:30 – 4:30 PM\nRice Boi – 123\, The Wharf\, Mooloolaba \nEnjoy a relaxed afternoon of beverages and bites at Rice Boi.Great food\, great drinks\, and even better company\, all for $80.00 per person. \nHosted by all Sponsors \nFind tickets here: https://womenin.com.au/upcomingevent/sunshine-coast-luncheon-8th-of-may/
URL:https://theonsitemanager.com.au/news/event/women-in-sunshine-coast-luncheon-8th-of-may/
LOCATION:Rice Boi\, 123\, The Wharf Mooloolaba\, Parkyn Parade\, queensland\, 4557\, Australia
CATEGORIES:Social
ATTACH;FMTTYPE=image/jpeg:https://cdn.theonsitemanager.com.au/news/wp-content/uploads/2026/04/Untitled-design-53.jpg
END:VEVENT
BEGIN:VEVENT
DTSTART;TZID=Australia/Melbourne:20260514T163000
DTEND;TZID=Australia/Melbourne:20260514T193000
DTSTAMP:20260426T134802
CREATED:20260416T064931Z
LAST-MODIFIED:20260416T065321Z
UID:5046-1778776200-1778787000@theonsitemanager.com.au
SUMMARY:SUNSHINE COAST STRATA SEMINAR – MAJOR MAINTENANCE PROJECTS (14 MAY 2026)
DESCRIPTION:Hosted by Archers the Strata Professionals on 14/05/2026 in Sunshine Coast \, Posted by Smart Strata on 09/03/2026\n\nUnderstanding strata major maintenance projects: the who\, what\, when\, why and how of planning\, funding and delivering major works. \n  \n\nStrata Major Maintenance Projects Seminar Sunshine Coast\nWhere: Maroochy RSL\, 105 Memorial Ave\, Maroochydore QLD 4558 \nWhen: Thursday 14th May 2026\, 4:30pm for 5:00pm start \nEntry: Free of charge \nCanapés and beverages provided with lots of prizes to be won! \n\nREGISTER HERE\n\n\nMaintenance & Major Projects: the who\, what\, when\, why and how\nStrata Major Maintenance Projects Seminar Sunshine Coast. From early discovery and planning\, through tendering\, funding and delivery\, this seminar unpacks how strata schemes can proactively manage major works. Using a real-world case studies\, our expert panel will explore governance\, budgeting\, contracts and project management — helping strata communities make confident\, informed decisions at every stage. \nWhat you will learn \n\nWho is responsible for identifying\, monitoring and reporting building condition\, and why early discovery is critical to avoiding reactive and costly major works.\nWhat should be considered when planning major projects\, and when to review and update the Sinking Fund Forecast to reflect realistic timing and costs.\nWhen to engage project management support for major works\, what funding options are available\, and how payments\, special levies and contract requirements are managed.\nHow to approach different project types\, tendering and contractor selection\, who should be involved\, and why transparent\, arm’s-length processes matter.\n\nMajor maintenance projects are some of the most complex responsibilities faced in strata communities. Understanding the process is essential to manage risk\, control costs\, make informed decisions and protect the long-term interests of the scheme. \nStrata Seminar 14th May 2026 Register Now! \nIf you need any assistance with this event\, you can contact us HERE.
URL:https://theonsitemanager.com.au/news/event/sunshine-coast-strata-seminar-major-maintenance-projects-14-may-2026/
LOCATION:Maroochy RSL\, 105 Memorial Ave\, Maroochydore QLD 4558\, Maroochy RSL\, 105 Memorial Ave\, Maroochydore\, Queensland\, 4558\, Australia
CATEGORIES:Conference,Professional Development,Seminar
ATTACH;FMTTYPE=image/jpeg:https://cdn.theonsitemanager.com.au/news/wp-content/uploads/2026/04/Untitled-design-47.jpg
ORGANIZER;CN="Smart%20Strata":MAILTO:info@smartstrata.com
END:VEVENT
BEGIN:VEVENT
DTSTART;TZID=Australia/Melbourne:20260520T180000
DTEND;TZID=Australia/Melbourne:20260520T203000
DTSTAMP:20260426T134802
CREATED:20260416T070737Z
LAST-MODIFIED:20260416T070737Z
UID:5052-1779300000-1779309000@theonsitemanager.com.au
SUMMARY:BRISBANE STRATA SEMINAR – MAJOR MAINTENANCE PROJECTS (20 MAY 2026)
DESCRIPTION:Hosted by Archers the Strata Professionals on 20/05/2026 in Brisbane \, Posted by Smart Strata on 09/03/2026\n\nUnderstanding strata major maintenance projects: the who\, what\, when\, why and how of planning\, funding and delivering major works. \n\n  \nStrata Major Maintenance Projects Seminar Brisbane\nWhere: Broncos Leagues Club\, 98 Fulcher Rd\, Red Hill QLD 4059 \nWhen: Wednesday 20th May 2026\, 6:00pm for 6:30pm start \nEntry: Free of charge \nCanapés and beverages provided with lots of prizes to be won! \n\nRegister Here\n\n\nMaintenance & Major Projects: the who\, what\, when\, why and how\nStrata Major Maintenance Projects Seminar Brisbane. From early discovery and planning\, through tendering\, funding and delivery\, this seminar unpacks how strata schemes can proactively manage major works. Using a real-world case studies\, our expert panel will explore governance\, budgeting\, contracts and project management — helping strata communities make confident\, informed decisions at every stage. \nWhat you will learn \n\nWho is responsible for identifying\, monitoring and reporting building condition\, and why early discovery is critical to avoiding reactive and costly major works.\nWhat should be considered when planning major projects\, and when to review and update the Sinking Fund Forecast to reflect realistic timing and costs.\nWhen to engage project management support for major works\, what funding options are available\, and how payments\, special levies and contract requirements are managed.\nHow to approach different project types\, tendering and contractor selection\, who should be involved\, and why transparent\, arm’s-length processes matter.\n\nMajor maintenance projects are some of the most complex responsibilities faced in strata communities. Understanding the process is essential to manage risk\, control costs\, make informed decisions and protect the long-term interests of the scheme. \nStrata Seminar 20th May 2026 Register Now! \nIf you need any assistance with this event\, you can contact us HERE. \n \n\n\n\n 
URL:https://theonsitemanager.com.au/news/event/brisbane-strata-seminar-major-maintenance-projects-20-may-2026/
LOCATION:Broncos Leagues Club\, 98 Fulcher Rd\, Red Hill QLD 4059\, Broncos Leagues Club\, 98 Fulcher Rd\, Brisbane\, Red Hill\, Queensland\, 4059\, Australia
CATEGORIES:Conference,Professional Development,Seminar
ATTACH;FMTTYPE=image/jpeg:https://cdn.theonsitemanager.com.au/news/wp-content/uploads/2026/04/Untitled-design-48.jpg
ORGANIZER;CN="Smart%20Strata":MAILTO:info@smartstrata.com
END:VEVENT
BEGIN:VEVENT
DTSTART;TZID=Australia/Melbourne:20260528T173000
DTEND;TZID=Australia/Melbourne:20260528T203000
DTSTAMP:20260426T134802
CREATED:20260416T072033Z
LAST-MODIFIED:20260416T072033Z
UID:5056-1779989400-1780000200@theonsitemanager.com.au
SUMMARY:CAIRNS STRATA SEMINAR – MAJOR MAINTENANCE PROJECTS (28 MAY 2026)
DESCRIPTION:Hosted by Archers the Strata Professionals on 28/05/2026 in Cairns \, Posted by Smart Strata on 09/03/2026\n\nUnderstanding strata major maintenance projects: the who\, what\, when\, why and how of planning\, funding and delivering major works. \n\n  \nStrata Major Maintenance Projects Seminar Cairns\nWhere: Pullman Reef Hotel Casino\, 35-41 Wharf St\, Cairns City QLD 4870 \nWhen: Thursday 28th May 5:30pm for 6:00pm start \nEntry: Free of charge \nCanapés and beverages provided with lots of prizes to be won! \n\nRegister Here\n\n\nMaintenance & Major Projects: the who\, what\, when\, why and how\nStrata Major Maintenance Projects Seminar Cairns. From early discovery and planning\, through tendering\, funding and delivery\, this seminar unpacks how strata schemes can proactively manage major works. Using a real-world case studies\, our expert panel will explore governance\, budgeting\, contracts and project management — helping strata communities make confident\, informed decisions at every stage. \nWhat you will learn \n\nWho is responsible for identifying\, monitoring and reporting building condition\, and why early discovery is critical to avoiding reactive and costly major works.\nWhat should be considered when planning major projects\, and when to review and update the Sinking Fund Forecast to reflect realistic timing and costs.\nWhen to engage project management support for major works\, what funding options are available\, and how payments\, special levies and contract requirements are managed.\nHow to approach different project types\, tendering and contractor selection\, who should be involved\, and why transparent\, arm’s-length processes matter.\n\nMajor maintenance projects are some of the most complex responsibilities faced in strata communities. Understanding the process is essential to manage risk\, control costs\, make informed decisions and protect the long-term interests of the scheme. \nStrata Seminar 28th May 2026 Register Now! \nIf you need any assistance with this event\, you can contact us HERE.
URL:https://theonsitemanager.com.au/news/event/cairns-strata-seminar-major-maintenance-projects-28-may-2026/
LOCATION:Pullman Reef Hotel Casino\, 35-41 Wharf St\, Cairns City QLD 4870\, 35-41 Wharf St\, Cairns City\, Queensland\, 4870\, Australia
CATEGORIES:Conference,Professional Development,Seminar
ATTACH;FMTTYPE=image/jpeg:https://cdn.theonsitemanager.com.au/news/wp-content/uploads/2026/04/Untitled-design-49.jpg
ORGANIZER;CN="Smart%20Strata":MAILTO:info@smartstrata.com
END:VEVENT
BEGIN:VEVENT
DTSTART;TZID=Australia/Melbourne:20260603T160000
DTEND;TZID=Australia/Melbourne:20260603T190000
DTSTAMP:20260426T134802
CREATED:20260416T072648Z
LAST-MODIFIED:20260416T072648Z
UID:5060-1780502400-1780513200@theonsitemanager.com.au
SUMMARY:GOLD COAST STRATA SEMINAR – MAJOR MAINTENANCE PROJECTS (3 JUNE 2026)
DESCRIPTION:Hosted by Archers the Strata Professionals on 03/06/2026 in Gold Coast \, Posted by Smart Strata on 09/03/2026\n\nUnderstanding strata major maintenance projects: the who\, what\, when\, why and how of planning\, funding and delivering major works. \n\n  \nStrata Major Maintenance Projects Seminar Gold Coast\nWhere: People First Stadium\, Nerang Broadbeach Rd\, Carrara QLD 4211 \n[GATE 5 RED CARPARK] \nWhen: Wednesday 3rd June 2026\, 4:00pm for 4:30pm start \nEntry: Free of charge \nCanapés and beverages provided with lots of prizes to be won! \n\nRegister Here\n\n\nMaintenance & Major Projects: the who\, what\, when\, why and how\nStrata Major Maintenance Projects Seminar Gold Coast. From early discovery and planning\, through tendering\, funding and delivery\, this seminar unpacks how strata schemes can proactively manage major works. Using a real-world case studies\, our expert panel will explore governance\, budgeting\, contracts and project management — helping strata communities make confident\, informed decisions at every stage. \nWhat you will learn \n\nWho is responsible for identifying\, monitoring and reporting building condition\, and why early discovery is critical to avoiding reactive and costly major works.\nWhat should be considered when planning major projects\, and when to review and update the Sinking Fund Forecast to reflect realistic timing and costs.\nWhen to engage project management support for major works\, what funding options are available\, and how payments\, special levies and contract requirements are managed.\nHow to approach different project types\, tendering and contractor selection\, who should be involved\, and why transparent\, arm’s-length processes matter.\n\nMajor maintenance projects are some of the most complex responsibilities faced in strata communities. Understanding the process is essential to manage risk\, control costs\, make informed decisions and protect the long-term interests of the scheme. \nStrata Seminar 3rd June 2026 Register Now! \nIf you need any assistance with this event\, you can contact us HERE.
URL:https://theonsitemanager.com.au/news/event/gold-coast-strata-seminar-major-maintenance-projects-3-june-2026/
LOCATION:People First Stadium\, Nerang Broadbeach Rd\, Carrara QLD 4211\, Nerang Broadbeach Rd\, Carrara\, Queensland\, 4211\, Australia
CATEGORIES:Conference,Professional Development,Seminar
ATTACH;FMTTYPE=image/jpeg:https://cdn.theonsitemanager.com.au/news/wp-content/uploads/2026/04/Untitled-design-50.jpg
ORGANIZER;CN="Smart%20Strata":MAILTO:info@smartstrata.com
END:VEVENT
END:VCALENDAR