BEGIN:VCALENDAR
VERSION:2.0
PRODID:-//TheOnsiteManager - ECPv5.9.0//NONSGML v1.0//EN
CALSCALE:GREGORIAN
METHOD:PUBLISH
X-WR-CALNAME:TheOnsiteManager
X-ORIGINAL-URL:https://theonsitemanager.com.au/news
X-WR-CALDESC:Events for TheOnsiteManager
BEGIN:VTIMEZONE
TZID:Australia/Melbourne
BEGIN:STANDARD
TZOFFSETFROM:+1100
TZOFFSETTO:+1000
TZNAME:AEST
DTSTART:20230401T160000
END:STANDARD
BEGIN:DAYLIGHT
TZOFFSETFROM:+1000
TZOFFSETTO:+1100
TZNAME:AEDT
DTSTART:20230930T160000
END:DAYLIGHT
BEGIN:STANDARD
TZOFFSETFROM:+1100
TZOFFSETTO:+1000
TZNAME:AEST
DTSTART:20240406T160000
END:STANDARD
BEGIN:DAYLIGHT
TZOFFSETFROM:+1000
TZOFFSETTO:+1100
TZNAME:AEDT
DTSTART:20241005T160000
END:DAYLIGHT
BEGIN:STANDARD
TZOFFSETFROM:+1100
TZOFFSETTO:+1000
TZNAME:AEST
DTSTART:20250405T160000
END:STANDARD
BEGIN:DAYLIGHT
TZOFFSETFROM:+1000
TZOFFSETTO:+1100
TZNAME:AEDT
DTSTART:20251004T160000
END:DAYLIGHT
END:VTIMEZONE
BEGIN:VEVENT
DTSTART;TZID=Australia/Melbourne:20250912T173000
DTEND;TZID=Australia/Melbourne:20250912T220000
DTSTAMP:20260423T213305
CREATED:20250729T051109Z
LAST-MODIFIED:20250729T051109Z
UID:4823-1757698200-1757714400@theonsitemanager.com.au
SUMMARY:The 2025 ARAMA TOP Awards 12 Sep
DESCRIPTION:The 2025 ARAMA TOP Awards Presentation & Dinner is the Management Rights Industry`s night of nights. \nRegistrations begin from 5:30pm with an opportunity to catch up with old friends and meet new ones\, network with industry over well-earned drinks. At 6:00pm entrees will be served directly to the table. Formalities start at 6:15pm with our formal award presentation\, accompanied by dinner including main course\, dessert\, and drinks.The formalities will the conclude at 10:00pm. \nThe awards dinner will be hosted at The Star Brisbane which boasts ample space\, heaps of onsite parking\, fantastic food & outstanding service. Click here for address details. \nDress code is business suit (tie optional) & cocktail or after 5:00pm dress. \nTickets can be purchased individually or in a block of 8 (entire table). Tickets include entree\, main course\, dessert\, drinks all night and tea/coffee. \nTicket prices are: \n\n$275 + GST each for members (up to 2 pax at this price i.e. ARAMA member + partner – make sure you are logged in as a member)\n$295 + GST for non-members or\nA table of 8 for $2\,200 + GST\n\nWhy not make a night of it and book direct at an ARAMA member property ARAMA Accommodation Directory. \nJoin us for a night of celebrations and share in the excitement while meeting our outstanding line-up of TOP performers alongside winners like you\, your Industry peers and some very important guests. \nAll individual seating will be pre-allocated so please ensure you let us know who you wish to be seated with if you have a preference. \nFor more information please contact ARAMA on 1300 ARAMA Q or national@arama.com.au. Sponsorship packages are available that include tables of 8  and amazing promotional opportunities.
URL:https://theonsitemanager.com.au/news/event/the-2025-arama-top-awards-12-sep/
LOCATION:the star brisbane\, 33 William Street\, Brisbane\, Queensland\, 4000\, Australia
CATEGORIES:ARAMA,Awards
ATTACH;FMTTYPE=image/jpeg:https://cdn.theonsitemanager.com.au/news/wp-content/uploads/2025/07/ARAMA-2025-Awards.jpg
END:VEVENT
BEGIN:VEVENT
DTSTART;TZID=Australia/Melbourne:20231028T180000
DTEND;TZID=Australia/Melbourne:20231028T233000
DTSTAMP:20260423T213305
CREATED:20230818T033127Z
LAST-MODIFIED:20230818T033127Z
UID:3901-1698516000-1698535800@theonsitemanager.com.au
SUMMARY:REIQ Awards For Excellence 2023
DESCRIPTION:Join us for the most anticipated event on the Queensland real estate calendar – the REIQ Awards for Excellence! \nThe Awards for Excellence provide a stage for the Queensland profession’s stand-out performers to be elevated among their peers and the public. The Awards encourage and celebrate best practice and set the benchmark for standards in the industry. \nREIQ members and member agencies can nominate in a multitude of categories with some awards based on agency size and location. All sectors are represented\, including residential and commercial sales and property management\, buyer’s agents\, business brokers and auctioneers. There are also awards for agency support\, multimedia and contributions to the community. \nWe look forward to seeing the profession’s finest at our spectacular gala dinner as we return to the Brisbane Convention and Exhibition Centre on 28 October 2023\, celebrating the industry’s outstanding achievements. \n 
URL:https://theonsitemanager.com.au/news/event/reiq-awards-for-excellence-2023/
LOCATION:Plaza Ballroom Brisbane Convention & Exhibition Centre\, Glengelg Street\, South Brisbane\, QLD\, 4101\, Australia
CATEGORIES:Awards,Social
ATTACH;FMTTYPE=image/jpeg:https://cdn.theonsitemanager.com.au/news/wp-content/uploads/2023/08/awards-for-excellence-2023reiq.jpg
END:VEVENT
BEGIN:VEVENT
DTSTART;TZID=Australia/Melbourne:20231014T190000
DTEND;TZID=Australia/Melbourne:20231014T233000
DTSTAMP:20260423T213305
CREATED:20230817T232358Z
LAST-MODIFIED:20230817T232358Z
UID:3886-1697310000-1697326200@theonsitemanager.com.au
SUMMARY:The Best of Tourism Awards - Spring Carnival Annual Gala 2023
DESCRIPTION:The Best of Tourism Awards annual gala is back! Join us for an evening of caipirinha’s\, colours and cutting up the d-floor 💃 \nIn collaboration with Women in and Resly\, the Best of Tourism Awards is back to celebrate the industry’s finest and let the good times roll. But that’s not all – this spectacular gala event is also on a mission to make a difference. \nAs we gather to celebrate and honor excellence in tourism\, we’ll also be raising funds for two incredible charities. A portion of every ticket sale will be shared between The Tara Brown Foundation and WeCU\, two deserving causes that are making a profound impact. \nJoin us for an unforgettable evening. Dress to impress\, dance the night away\, and know that your presence and support are making a meaningful difference in the lives of others. \nThe Spring Carnival Annual Gala is more than just an event\, it’s an opportunity to unite the industry\, showcase our achievements\, and give back to our community. See you there!
URL:https://theonsitemanager.com.au/news/event/the-best-of-tourism-awards-spring-carnival-annual-gala-2023/
LOCATION:The Star Gold Coast\, 1 Casino Drive\, Broadbeach\, Queensland\, 4218\, Australia
CATEGORIES:Awards,Social
ATTACH;FMTTYPE=image/jpeg:https://cdn.theonsitemanager.com.au/news/wp-content/uploads/2023/08/tourism-women-in-awards-2023.jpg
END:VEVENT
BEGIN:VEVENT
DTSTART;TZID=Australia/Melbourne:20231013T190000
DTEND;TZID=Australia/Melbourne:20231013T230000
DTSTAMP:20260423T213305
CREATED:20230807T020525Z
LAST-MODIFIED:20230807T021105Z
UID:3858-1697223600-1697238000@theonsitemanager.com.au
SUMMARY:THE Awards 2023
DESCRIPTION:Join us as we announce the 2023 winners of THE AWARDS. The industry excellence awards for service providers within the MLR Industry. This is a cocktail style event where guests are free to mix and mingle with their colleagues and enjoy a night of fun away from the office. \nWe look forward to a sensational evening of fun and celebration as we acknowledge the service providers who gave their all and made our industry a strong\, exciting and amazing field in which to work. \nThe evening will be hosted by accommodation and travel presenter\, Cassandra Trezise\, live entertainment from the Ballet International Gala (B.I.G. Catch them at QPAC on the 22nd of August for a sneak preview) supported by legendary DJ Bure and Alex Fletcher on Sax\, with special appearances from… everyone in the industry. We hope you join us! \nIncluded: The evening will include open bar and delicious hot and cold canapes\, awards ceremony\, live music\, and a whole lot of fun. \nBook your tickets now! CLICK HERE \nDress/Theme: Gatsby Sheik
URL:https://theonsitemanager.com.au/news/event/the-awards-2023/
LOCATION:The Warehouse\, 8 McLachlan St\, Fortitude Valley\, Queensland\, 4006\, Australia
CATEGORIES:Awards,Conference
ATTACH;FMTTYPE=image/jpeg:https://cdn.theonsitemanager.com.au/news/wp-content/uploads/2023/08/THE_2023.jpg
END:VEVENT
BEGIN:VEVENT
DTSTART;TZID=Australia/Melbourne:20230725T180000
DTEND;TZID=Australia/Melbourne:20230725T230000
DTSTAMP:20260423T213305
CREATED:20230504T230224Z
LAST-MODIFIED:20230504T230224Z
UID:3480-1690308000-1690326000@theonsitemanager.com.au
SUMMARY:TOP Awards 2023
DESCRIPTION:The 2023 ARAMA TOP Awards Presentation & Dinner is the Management Rights Industry`s night of nights. \nThe TOP Awards dinner will commence at 6:00 pm for networking with industry over well-earned drinks and mouth-watering canapes. The formalities will begin at 7:00 pm with dancing to end at 11:00 pm. \nThe dinner will be hosted at The Royal International Convention Centre which boasts ample space\, heaps of onsite parking\, fantastic food & outstanding service.  Click here for address details. \nDress code is formal attire. \nTickets can be purchased individually or in a block of 8 (entire table). Tickets include canapes\, main course\, dessert\, drinks all night\, tea/coffee and fantastic live entertainment. \nTicket prices are: \n– $215 + GST each for members (up to 2 pax at this price i.e. ARAMA member + partner – make sure you are logged in as a member) \n– $280 + GST for non-members or \n– A table of 8 for $1\,800 + GST \nWhy not make a night of it and stay overnight at one of our fabulous ARAMA member properties close by.  Click here for the ARAMA Accommodation Directory (A.A.D). \nJoin us for a night of celebrations and share in the excitement while meeting our outstanding line-up of Top performers alongside winners like you\, your Industry peers and some very important guests. \nAll individual seating will be pre-allocated so please ensure you let us know who you wish to be seated with if you have a preference.
URL:https://theonsitemanager.com.au/news/event/top-awards-2023/
LOCATION:Royal International Convention Centre\, 600 Gregory Terrace\, Bowen Hills\, QLD\, 4006\, Australia
CATEGORIES:ARAMA,Awards,Social
ATTACH;FMTTYPE=image/jpeg:https://cdn.theonsitemanager.com.au/news/wp-content/uploads/2023/05/ARAMA-TOP-AWARDS-2023.jpg
END:VEVENT
END:VCALENDAR